BEGIN:VCALENDAR
VERSION:2.0
PRODID:-//Tukios.com/
BEGIN:VEVENT
UID:3461dc75-d588-475e-9c06-645a248a0a61@www.scanlinmcdonald.com
DTSTAMP:20260420T211138Z
DTSTART:20260423T160000Z
DTEND:20260423T170000Z
SUMMARY:Interment
DESCRIPTION:
URL:https://www.scanlinmcdonald.com/obituaries/daniel-ortiz
LOCATION: 238 Almshouse Road  New Britain PA 18901
GEO:40.2942671;-75.1766314
END:VEVENT
END:VCALENDAR