BEGIN:VCALENDAR
VERSION:2.0
PRODID:-//Tukios.com/
BEGIN:VEVENT
UID:f44811ec-2f9a-454c-843c-9af02f192715@www.scanlinmcdonald.com
DTSTAMP:20260420T211408Z
DTSTART:20260423T133000Z
DTEND:20260423T150000Z
SUMMARY:Viewing
DESCRIPTION:
URL:https://www.scanlinmcdonald.com/obituaries/daniel-ortiz
LOCATION:Scanlin-McDonald Funeral Home 175 East Butler Avenue  Chalfont 
	PA 18914
GEO:40.2894419;-75.2013274
END:VEVENT
END:VCALENDAR