BEGIN:VCALENDAR
VERSION:2.0
PRODID:-//Tukios.com/
BEGIN:VEVENT
UID:ff96ae75-27c7-4c4c-8b63-07da1525f0f6@www.scanlinmcdonald.com
DTSTAMP:20260420T211038Z
DTSTART:20260423T150000Z
DTEND:20260423T160000Z
SUMMARY:Funeral Service
DESCRIPTION:
URL:https://www.scanlinmcdonald.com/obituaries/daniel-ortiz
LOCATION:Scanlin-McDonald Funeral Home 175 East Butler Avenue  Chalfont 
	PA 18914
GEO:40.2894419;-75.2013274
END:VEVENT
END:VCALENDAR