BEGIN:VCALENDAR
VERSION:2.0
PRODID:-//Tukios.com/
BEGIN:VEVENT
UID:41aad401-b6eb-4ed9-8ae3-93810158ece7@www.scanlinmcdonald.com
DTSTAMP:20260422T202603Z
DTSTART:20260509T140000Z
DTEND:20260509T150000Z
SUMMARY:Visitation
DESCRIPTION:
URL:https://www.scanlinmcdonald.com/obituaries/cindy-campbell
LOCATION:St. Paul's Lutheran Church 301 North Main Street  Doylestown PA 
	18901
GEO:40.3169585;-75.1299733
END:VEVENT
END:VCALENDAR