BEGIN:VCALENDAR
VERSION:2.0
PRODID:-//Tukios.com/
BEGIN:VEVENT
UID:498b9e80-2bad-4632-9648-8fc56b1f1a6b@www.scanlinmcdonald.com
DTSTAMP:20260422T203029Z
DTSTART:20260509T150000Z
DTEND:20260509T160000Z
SUMMARY:Funeral Service
DESCRIPTION:
URL:https://www.scanlinmcdonald.com/obituaries/cindy-campbell
LOCATION:St. Paul's Lutheran Church 301 North Main Street  Doylestown PA 
	18901
GEO:40.3169585;-75.1299733
END:VEVENT
END:VCALENDAR