BEGIN:VCALENDAR
VERSION:2.0
PRODID:-//Tukios.com/
BEGIN:VEVENT
UID:570d785f-9a32-43b3-b95b-5ecf3fe3303d@www.scanlinmcdonald.com
DTSTAMP:20260423T081202Z
DTSTART:20260421T160000Z
DTEND:20260421T170000Z
SUMMARY:Funeral Service
DESCRIPTION:
URL:https://www.scanlinmcdonald.com/obituaries/betty-martin
LOCATION: 175 East Butler Avenue  Chalfont PA 18914
GEO:40.2894419;-75.2013274
END:VEVENT
END:VCALENDAR