BEGIN:VCALENDAR
VERSION:2.0
PRODID:-//Tukios.com/
BEGIN:VEVENT
UID:b7c6d712-9df7-4bc0-b802-1d402687abda@www.scanlinmcdonald.com
DTSTAMP:20260423T080856Z
DTSTART:20260421T140000Z
DTEND:20260421T160000Z
SUMMARY:Visitation
DESCRIPTION:
URL:https://www.scanlinmcdonald.com/obituaries/betty-martin
LOCATION: 175 East Butler Avenue  Chalfont PA 18914
GEO:40.2894419;-75.2013274
END:VEVENT
END:VCALENDAR